BEGIN:VCALENDAR
VERSION:2.0
PRODID:-//wp-events-plugin.com//7.2.3.1//EN
TZID:Europe/Berlin
X-WR-TIMEZONE:Europe/Berlin
BEGIN:VEVENT
UID:453@ginco-ev.com
DTSTART;TZID=Europe/Berlin:20141221T000000
DTEND;TZID=Europe/Berlin:20150111T000000
DTSTAMP:20141225T144653Z
URL:https://ginco-ev.com/ru/events/zimnie-kanikuly/
SUMMARY:Зимние каникулы
DESCRIPTION:Зимние каникулы длятся с 21.12.2014 до 1
 1.01.2015. Во время зимних каникул в январе (5-
 ого\, 7-ого и 9-ого) занятия проводятся тол
 ько в группах БэбиБум и Вместе с мамой. Ж
 елаем всем хорошего отдыха и новых впеча
 тлений!
CATEGORIES:Новости
END:VEVENT
BEGIN:VTIMEZONE
TZID:Europe/Berlin
X-LIC-LOCATION:Europe/Berlin
BEGIN:STANDARD
DTSTART:20141026T020000
TZOFFSETFROM:+0200
TZOFFSETTO:+0100
TZNAME:CET
END:STANDARD
END:VTIMEZONE
END:VCALENDAR