BEGIN:VCALENDAR
VERSION:2.0
PRODID:-//wp-events-plugin.com//7.2.3.1//EN
TZID:Europe/Berlin
X-WR-TIMEZONE:Europe/Berlin
BEGIN:VEVENT
UID:432@ginco-ev.com
DTSTART;TZID=Europe/Berlin;VALUE=DATE:20140510
DTEND;TZID=Europe/Berlin;VALUE=DATE:20140512
DTSTAMP:20140503T114753Z
URL:https://ginco-ev.com/ru/events/tehnicheskij-muzej-v-g-shpajer/
SUMMARY:Технический музей в г. Шпайер
DESCRIPTION:На выходных 10 и 11 мая в техническом
  музее в г. Шпайер пройдёт выставка машин
  Олдтаймер и огненное шоу. Здесь Вы может
 е узнать об этом мероприятии подробнее.
CATEGORIES:Новости
END:VEVENT
BEGIN:VTIMEZONE
TZID:Europe/Berlin
X-LIC-LOCATION:Europe/Berlin
BEGIN:DAYLIGHT
DTSTART:20140330T030000
TZOFFSETFROM:+0100
TZOFFSETTO:+0200
TZNAME:CEST
END:DAYLIGHT
END:VTIMEZONE
END:VCALENDAR