BEGIN:VCALENDAR
VERSION:2.0
PRODID:-//wp-events-plugin.com//7.2.3.1//EN
TZID:Europe/Berlin
X-WR-TIMEZONE:Europe/Berlin
BEGIN:VEVENT
UID:392@ginco-ev.com
DTSTART;TZID=Europe/Berlin:20130425T173000
DTEND;TZID=Europe/Berlin:20130425T183000
DTSTAMP:20140117T175205Z
URL:https://ginco-ev.com/ru/events/teatr-dlya-detej/
SUMMARY:Театр для детей - Заказ билетов
DESCRIPTION:25 апреля\, в четверг\, в 17.30 приглаша
 ем детей 3-6 лет в мир русской сказки "Тере
 мок"! Билеты продаются по понедельникам\,
  средам и пятницам с 17 до 19 час.\n\nМожно за
 казать на этой странице.
ATTACH;FMTTYPE=image/jpeg:https://ginco-ev.com/wp-content/uploads/2013/04/
 anzeige02_web.jpg
CATEGORIES:Объявления (только
 редактор),Театральные представления
END:VEVENT
BEGIN:VTIMEZONE
TZID:Europe/Berlin
X-LIC-LOCATION:Europe/Berlin
BEGIN:DAYLIGHT
DTSTART:20130331T030000
TZOFFSETFROM:+0100
TZOFFSETTO:+0200
TZNAME:CEST
END:DAYLIGHT
END:VTIMEZONE
END:VCALENDAR