BEGIN:VCALENDAR
VERSION:2.0
PRODID:-//wp-events-plugin.com//7.2.3.1//EN
TZID:Europe/Berlin
X-WR-TIMEZONE:Europe/Berlin
BEGIN:VEVENT
UID:525@ginco-ev.com
DTSTART;TZID=Europe/Berlin:20170210T000000
DTEND;TZID=Europe/Berlin:20170605T000000
DTSTAMP:20170214T101204Z
URL:https://ginco-ev.com/ru/events/rene-magritt/
SUMMARY:Рене Магритт
DESCRIPTION:В настоящее время в музее Ширн во Ф
 ранкфурте-на-Майне предлагается интерес
 нейшая выставка "Рене Магритт. Предатель
 ство изображений". Для детей от 8 лет пред
 лагается бесплатный аудиогид. Запись на 
 совместное посещение этой выставки по э
 лектронной почте (лишь от 20 чел. мы счита
 емся группой).
ATTACH;FMTTYPE=image/jpeg:https://ginco-ev.com/wp-content/uploads/2017/02/
 magritte.jpg
CATEGORIES:Новости
END:VEVENT
BEGIN:VTIMEZONE
TZID:Europe/Berlin
X-LIC-LOCATION:Europe/Berlin
BEGIN:STANDARD
DTSTART:20161030T020000
TZOFFSETFROM:+0200
TZOFFSETTO:+0100
TZNAME:CET
END:STANDARD
BEGIN:DAYLIGHT
DTSTART:20170326T030000
TZOFFSETFROM:+0100
TZOFFSETTO:+0200
TZNAME:CEST
END:DAYLIGHT
END:VTIMEZONE
END:VCALENDAR