BEGIN:VCALENDAR
VERSION:2.0
PRODID:-//wp-events-plugin.com//7.2.3.1//EN
TZID:Europe/Berlin
X-WR-TIMEZONE:Europe/Berlin
BEGIN:VEVENT
UID:546@ginco-ev.com
DTSTART;TZID=Europe/Berlin;VALUE=DATE:20171216
DTEND;TZID=Europe/Berlin;VALUE=DATE:20171218
DTSTAMP:20171111T135907Z
URL:https://ginco-ev.com/ru/events/novyj-god-prazdnik-dlya-vseh/
SUMMARY:Новый год - праздник для всех!
DESCRIPTION:В этом году мы проводим все Нового
 дние праздники в помещении Эрих-Кестнер-
 Школы в Дармштадте. План и время проведе
 ния праздников мы уже высылали\, регистр
 ация и запись в буфет идёт полным ходом. 
 Мы рады новым ярким впечатлениям\, вкусн
 ым угощениям и сюрпризам и подаркам!
ATTACH;FMTTYPE=image/jpeg:https://ginco-ev.com/wp-content/uploads/2017/11/
 baumweihanchts.jpg
CATEGORIES:Объявления (только редактор)
END:VEVENT
BEGIN:VTIMEZONE
TZID:Europe/Berlin
X-LIC-LOCATION:Europe/Berlin
BEGIN:STANDARD
DTSTART:20171029T020000
TZOFFSETFROM:+0200
TZOFFSETTO:+0100
TZNAME:CET
END:STANDARD
END:VTIMEZONE
END:VCALENDAR