BEGIN:VCALENDAR
VERSION:2.0
PRODID:-//wp-events-plugin.com//7.2.3.1//EN
TZID:Europe/Berlin
X-WR-TIMEZONE:Europe/Berlin
BEGIN:VEVENT
UID:508@ginco-ev.com
DTSTART;TZID=Europe/Berlin;VALUE=DATE:20160709
DTEND;TZID=Europe/Berlin;VALUE=DATE:20160710
DTSTAMP:20160520T112557Z
URL:https://ginco-ev.com/ru/events/letnij-prazdnik-s-igrami-i-grilem/
SUMMARY:Летний праздник с играми и грилем
DESCRIPTION:9 июля с 12 час. и до прибл. 21 час. при
 глашаем всех на летний праздник! Мы буде
 м вместе: играть\, петь\, танцевать\, отдых
 ать! Место проведения по электронной поч
 те.
ATTACH;FMTTYPE=image/jpeg:https://ginco-ev.com/wp-content/uploads/2014/02/
 grill2013.jpg
CATEGORIES:Новости
END:VEVENT
BEGIN:VTIMEZONE
TZID:Europe/Berlin
X-LIC-LOCATION:Europe/Berlin
BEGIN:DAYLIGHT
DTSTART:20160327T030000
TZOFFSETFROM:+0100
TZOFFSETTO:+0200
TZNAME:CEST
END:DAYLIGHT
END:VTIMEZONE
END:VCALENDAR