BEGIN:VCALENDAR
VERSION:2.0
PRODID:-//wp-events-plugin.com//7.2.3.1//EN
TZID:Europe/Berlin
X-WR-TIMEZONE:Europe/Berlin
BEGIN:VEVENT
UID:480@ginco-ev.com
DTSTART;TZID=Europe/Berlin:20151002T000000
DTEND;TZID=Europe/Berlin:20151231T000000
DTSTAMP:20150924T115633Z
URL:https://ginco-ev.com/ru/events/konsultatsiya/
SUMMARY:Консультация
DESCRIPTION:Воспитание детей - самая сложная ж
 изненная задача родителей. Воспользуйте
 сь нашими знаниями и поддержкой в вопрос
 ах воспитания ребёнка. На консультациях 
 Вам помогут полезными импульсами в пост
 роении гармоничной и доверительной обст
 ановки в семье. Запись на консультации у 
 Светланы Гинзбург.
CATEGORIES:Новости
END:VEVENT
BEGIN:VTIMEZONE
TZID:Europe/Berlin
X-LIC-LOCATION:Europe/Berlin
BEGIN:DAYLIGHT
DTSTART:20150329T030000
TZOFFSETFROM:+0100
TZOFFSETTO:+0200
TZNAME:CEST
END:DAYLIGHT
BEGIN:STANDARD
DTSTART:20151025T020000
TZOFFSETFROM:+0200
TZOFFSETTO:+0100
TZNAME:CET
END:STANDARD
END:VTIMEZONE
END:VCALENDAR