BEGIN:VCALENDAR
VERSION:2.0
PRODID:-//wp-events-plugin.com//7.2.3.1//EN
TZID:Europe/Berlin
X-WR-TIMEZONE:Europe/Berlin
BEGIN:VEVENT
UID:503@ginco-ev.com
DTSTART;TZID=Europe/Berlin:20160502T000000
DTEND;TZID=Europe/Berlin:20160531T000000
DTSTAMP:20160527T073116Z
URL:https://ginco-ev.com/ru/events/konkurs-risunka-2/
SUMMARY:Конкурс рисунка
DESCRIPTION:Работы на конкурс рисунка по теме "
 Моя история/История моей семьи" принимаю
 тся до КОНЦА мая во время уроков. Формат: 
 минимум А4. Техника: любая. Возраст участ
 ников: все желающие включая родителей. С
 ам конкурс и голосование проводятся в ко
 нце июня.
CATEGORIES:Новости
END:VEVENT
BEGIN:VTIMEZONE
TZID:Europe/Berlin
X-LIC-LOCATION:Europe/Berlin
BEGIN:DAYLIGHT
DTSTART:20160327T030000
TZOFFSETFROM:+0100
TZOFFSETTO:+0200
TZNAME:CEST
END:DAYLIGHT
END:VTIMEZONE
END:VCALENDAR