BEGIN:VCALENDAR
VERSION:2.0
PRODID:-//wp-events-plugin.com//7.2.3.1//EN
TZID:Europe/Berlin
X-WR-TIMEZONE:Europe/Berlin
BEGIN:VEVENT
UID:512@ginco-ev.com
DTSTART;TZID=Europe/Berlin;VALUE=DATE:20160902
DTEND;TZID=Europe/Berlin;VALUE=DATE:20160903
DTSTAMP:20160825T105055Z
URL:https://ginco-ev.com/ru/events/informatsionnoe-sobranie-2/
SUMMARY:Информационное собрание
DESCRIPTION:Приглашаем всех родителей на инфо
 рмационное родительское собрание\, кото
 рое состоится 2 сентября в 18.30 час.
CATEGORIES:Новости
END:VEVENT
BEGIN:VTIMEZONE
TZID:Europe/Berlin
X-LIC-LOCATION:Europe/Berlin
BEGIN:DAYLIGHT
DTSTART:20160327T030000
TZOFFSETFROM:+0100
TZOFFSETTO:+0200
TZNAME:CEST
END:DAYLIGHT
END:VTIMEZONE
END:VCALENDAR