BEGIN:VCALENDAR
VERSION:2.0
PRODID:-//wp-events-plugin.com//7.2.3.1//EN
TZID:Europe/Berlin
X-WR-TIMEZONE:Europe/Berlin
BEGIN:VEVENT
UID:482@ginco-ev.com
DTSTART;TZID=Europe/Berlin:20151007T000000
DTEND;TZID=Europe/Berlin:20160124T000000
DTSTAMP:20151013T185223Z
URL:https://ginco-ev.com/ru/events/deutsch-stadel-ist-200-jahre-alt/
SUMMARY:Художественному музею (Städel) 200 лет!
DESCRIPTION:По случаю 200-летия музея Städel\, пров
 одится выставка "Диалог картин". 65 всемир
 но известных картин вступают в диалог с 
 картинами постоянной экспозиции музея. 
 Подробная информация здесь:"http://www.staedelmuse
 um.de/de/ausstellungen/dialog-der-meisterwerke"
ATTACH;FMTTYPE=image/jpeg:https://ginco-ev.com/wp-content/uploads/2015/10/
 staedel.jpg
CATEGORIES:Новости
END:VEVENT
BEGIN:VTIMEZONE
TZID:Europe/Berlin
X-LIC-LOCATION:Europe/Berlin
BEGIN:DAYLIGHT
DTSTART:20150329T030000
TZOFFSETFROM:+0100
TZOFFSETTO:+0200
TZNAME:CEST
END:DAYLIGHT
BEGIN:STANDARD
DTSTART:20151025T020000
TZOFFSETFROM:+0200
TZOFFSETTO:+0100
TZNAME:CET
END:STANDARD
END:VTIMEZONE
END:VCALENDAR