BEGIN:VCALENDAR
VERSION:2.0
PRODID:-//wp-events-plugin.com//7.2.3.1//EN
TZID:Europe/Berlin
X-WR-TIMEZONE:Europe/Berlin
BEGIN:VEVENT
UID:454@ginco-ev.com
DTSTART;TZID=Europe/Berlin:20150126T000000
DTEND;TZID=Europe/Berlin:20150126T000000
DTSTAMP:20141225T150921Z
URL:https://ginco-ev.com/ru/events/detskij-shahmatnyj-blittsturnir/
SUMMARY:Детский шахматный блитцтурнир
DESCRIPTION:С января 2015 г. в шахматном клубе бу
 дет проводиться регулярно детский шахма
 тный блитцтурнир. Принять учстие могут н
 е только дети\, посещающие шахматный клу
 б\, но и все дети\, желающие померяться си
 лами в шахматах.
ATTACH;FMTTYPE=image/jpeg:https://ginco-ev.com/wp-content/uploads/2013/11/
 chess_elefant_logo_klein1.jpg
CATEGORIES:Новости
END:VEVENT
BEGIN:VTIMEZONE
TZID:Europe/Berlin
X-LIC-LOCATION:Europe/Berlin
BEGIN:STANDARD
DTSTART:20141026T020000
TZOFFSETFROM:+0200
TZOFFSETTO:+0100
TZNAME:CET
END:STANDARD
END:VTIMEZONE
END:VCALENDAR