BEGIN:VCALENDAR
VERSION:2.0
PRODID:-//wp-events-plugin.com//7.2.3.1//EN
TZID:Europe/Berlin
X-WR-TIMEZONE:Europe/Berlin
BEGIN:VEVENT
UID:533@ginco-ev.com
DTSTART;TZID=Europe/Berlin:20170607T170000
DTEND;TZID=Europe/Berlin:20170628T180000
DTSTAMP:20170528T211721Z
URL:https://ginco-ev.com/ru/events/anglijskij-yazyk-dlya-roditelej/
SUMMARY:Английский язык для родителей
DESCRIPTION:В июне предлагаем для родителей ку
 рс "Общение на английском языке". Запись 
 по электронной почте или по телефону. Ку
 рс предлагается предварительно по среда
 м 7\, 14\, 21 и 28 июня с 17 до 18 час. . Подробност
 и - 7 июня на первом занятии.
CATEGORIES:Новости
END:VEVENT
BEGIN:VTIMEZONE
TZID:Europe/Berlin
X-LIC-LOCATION:Europe/Berlin
BEGIN:DAYLIGHT
DTSTART:20170326T030000
TZOFFSETFROM:+0100
TZOFFSETTO:+0200
TZNAME:CEST
END:DAYLIGHT
END:VTIMEZONE
END:VCALENDAR