BEGIN:VCALENDAR
VERSION:2.0
PRODID:-//wp-events-plugin.com//7.2.3.1//EN
TZID:Europe/Berlin
X-WR-TIMEZONE:Europe/Berlin
BEGIN:VEVENT
UID:448@ginco-ev.com
DTSTART;TZID=Europe/Berlin:20141001T000000
DTEND;TZID=Europe/Berlin:20141003T000000
DTSTAMP:20140927T221640Z
URL:https://ginco-ev.com/ru/events/3-oktyabrya/
SUMMARY:3 октября
DESCRIPTION:3 октября -пятница- нет регулярных 
 занятий. Желающие дети до 7 лет приглашаю
 тся в 15.00 в зоопарк г. Дармштадта (Vivarium)\, а
  дети от 8 лет - посетить в 15.00 краеведческ
 ий музей (Landesmuseum). Просьба записываться д
 о 1 октября у Светланы Гинзбург.
CATEGORIES:Новости
END:VEVENT
BEGIN:VTIMEZONE
TZID:Europe/Berlin
X-LIC-LOCATION:Europe/Berlin
BEGIN:DAYLIGHT
DTSTART:20140330T030000
TZOFFSETFROM:+0100
TZOFFSETTO:+0200
TZNAME:CEST
END:DAYLIGHT
END:VTIMEZONE
END:VCALENDAR