BEGIN:VCALENDAR
VERSION:2.0
PRODID:-//wp-events-plugin.com//7.2.3.1//EN
TZID:Europe/Berlin
X-WR-TIMEZONE:Europe/Berlin
BEGIN:VEVENT
UID:406@ginco-ev.com
DTSTART;TZID=Europe/Berlin;VALUE=DATE:20131212
DTEND;TZID=Europe/Berlin;VALUE=DATE:20131213
DTSTAMP:20131030T214024Z
URL:https://ginco-ev.com/de/events/tierhauschen/
SUMMARY:"Das Tierhäuschen im Wald" - Puppentheater
DESCRIPTION:12 декабря мы покажем русскую народ
 ную сказку "Теремок". Всех зрителей\, как 
 всегда ждёт незабываемое представление!
ATTACH;FMTTYPE=image/jpeg:https://ginco-ev.com/wp-content/uploads/2013/04/
 anzeige02_web.jpg
CATEGORIES:Театральные представления
LOCATION:#_LOCATIONNAME\, #_LOCATIONFULLLINE\, #_LOCATIONCOUNTRY
GEO:49.8702409;8.634428500000013
X-APPLE-STRUCTURED-LOCATION;VALUE=URI;X-ADDRESS=#_LOCATIONFULLLINE\, #_LOCA
 TIONCOUNTRY;X-APPLE-RADIUS=100;X-TITLE=#_LOCATIONNAME:geo:49.8702409,8.634
 428500000013
END:VEVENT
BEGIN:VTIMEZONE
TZID:Europe/Berlin
X-LIC-LOCATION:Europe/Berlin
BEGIN:STANDARD
DTSTART:20131027T020000
TZOFFSETFROM:+0200
TZOFFSETTO:+0100
TZNAME:CET
END:STANDARD
END:VTIMEZONE
END:VCALENDAR