BEGIN:VCALENDAR
VERSION:2.0
PRODID:-//wp-events-plugin.com//7.2.3.1//EN
TZID:Europe/Berlin
X-WR-TIMEZONE:Europe/Berlin
BEGIN:VEVENT
UID:432@ginco-ev.com
DTSTART;TZID=Europe/Berlin;VALUE=DATE:20140510
DTEND;TZID=Europe/Berlin;VALUE=DATE:20140512
DTSTAMP:20140503T114753Z
URL:https://ginco-ev.com/de/events/tehnicheskij-muzej-v-g-shpajer/
SUMMARY:Brazzeltag im Technikmuseum Speyer
DESCRIPTION:Für alle Technikliebhaber: an dem Wochenende 10.-11. Mai im Sp
 eyer findet super show statt. Hier können Sie mehr darüber erfahren.
CATEGORIES:Nachrichten
END:VEVENT
BEGIN:VTIMEZONE
TZID:Europe/Berlin
X-LIC-LOCATION:Europe/Berlin
BEGIN:DAYLIGHT
DTSTART:20140330T030000
TZOFFSETFROM:+0100
TZOFFSETTO:+0200
TZNAME:CEST
END:DAYLIGHT
END:VTIMEZONE
END:VCALENDAR