BEGIN:VCALENDAR
VERSION:2.0
PRODID:-//wp-events-plugin.com//7.2.3.1//EN
TZID:Europe/Berlin
X-WR-TIMEZONE:Europe/Berlin
BEGIN:VEVENT
UID:535@ginco-ev.com
DTSTART;TZID=Europe/Berlin;VALUE=DATE:20170626
DTEND;TZID=Europe/Berlin;VALUE=DATE:20170627
DTSTAMP:20170606T163312Z
URL:https://ginco-ev.com/de/events/shahmatnyj-turnir-i-film/
SUMMARY:Schachturnier und Film
DESCRIPTION:Am 26. Juni um 18 Uhr sind alle Schachspieler eingeladen\, eine
 n Film über den amtierenden Schachweltmeister zusammen zu schauen. Davor\
 , in der Zeit von 17 bis 18 Uhr findet ein Schachturnier statt. Anmeldunge
 n bitte an Gennadi Ginsburg per-Mail.
CATEGORIES:Nachrichten
END:VEVENT
BEGIN:VTIMEZONE
TZID:Europe/Berlin
X-LIC-LOCATION:Europe/Berlin
BEGIN:DAYLIGHT
DTSTART:20170326T030000
TZOFFSETFROM:+0100
TZOFFSETTO:+0200
TZNAME:CEST
END:DAYLIGHT
END:VTIMEZONE
END:VCALENDAR