BEGIN:VCALENDAR
VERSION:2.0
PRODID:-//wp-events-plugin.com//7.2.3.1//EN
TZID:Europe/Berlin
X-WR-TIMEZONE:Europe/Berlin
BEGIN:VEVENT
UID:546@ginco-ev.com
DTSTART;TZID=Europe/Berlin;VALUE=DATE:20171216
DTEND;TZID=Europe/Berlin;VALUE=DATE:20171218
DTSTAMP:20171111T135907Z
URL:https://ginco-ev.com/de/events/novyj-god-prazdnik-dlya-vseh/
SUMMARY:Neues Jahr - Feier für alle!
DESCRIPTION:In diesem Jahr feiern wir alle Feste zur Jahreswende in den Rä
 umen der Erich-Kestner-Schule in Darmstadt. Die Reihenfolge und die Uhrzei
 ten haben wir längst bekannt gegeben. Die Anmeldungen dafür und die Eint
 ragung in die Buffet-Listen sind auch schon gestartet. Wir freuen uns auf 
 neue tolle Erlebnisse\, leckere Köstlichkeiten und viele Überraschungen 
 und Geschenke!\n\n\n
ATTACH;FMTTYPE=image/jpeg:https://ginco-ev.com/wp-content/uploads/2017/11/
 baumweihanchts.jpg
CATEGORIES:Объявления (только редактор)
END:VEVENT
BEGIN:VTIMEZONE
TZID:Europe/Berlin
X-LIC-LOCATION:Europe/Berlin
BEGIN:STANDARD
DTSTART:20171029T020000
TZOFFSETFROM:+0200
TZOFFSETTO:+0100
TZNAME:CET
END:STANDARD
END:VTIMEZONE
END:VCALENDAR