BEGIN:VCALENDAR
VERSION:2.0
PRODID:-//wp-events-plugin.com//7.2.3.1//EN
TZID:Europe/Berlin
X-WR-TIMEZONE:Europe/Berlin
BEGIN:VEVENT
UID:433@ginco-ev.com
DTSTART;TZID=Europe/Berlin;VALUE=DATE:20140510
DTEND;TZID=Europe/Berlin;VALUE=DATE:20140511
DTSTAMP:20140503T115504Z
URL:https://ginco-ev.com/de/events/noch-muzeev-v-g-frankfurt-na-majne/
SUMMARY:Nacht der Museen in Frankfurt-am-Main
DESCRIPTION:Tanz und Theater\, Künstlergespräche und Führungen\, Musik u
 nd Vorträge ­- zur 15. NACHT DER MUSEEN öffnen am 10. Mai in Frankfurt 
 und Offenbach wieder rund 50 Kunst- und Kulturinstitutionen sowie mehrere 
 Galerien ihre Türen.
ATTACH;FMTTYPE=image/jpeg:https://ginco-ev.com/wp-content/uploads/2014/05/
 museumsnacht.jpg
CATEGORIES:Nachrichten
END:VEVENT
BEGIN:VTIMEZONE
TZID:Europe/Berlin
X-LIC-LOCATION:Europe/Berlin
BEGIN:DAYLIGHT
DTSTART:20140330T030000
TZOFFSETFROM:+0100
TZOFFSETTO:+0200
TZNAME:CEST
END:DAYLIGHT
END:VTIMEZONE
END:VCALENDAR