BEGIN:VCALENDAR
VERSION:2.0
PRODID:-//wp-events-plugin.com//7.2.3.1//EN
TZID:Europe/Berlin
X-WR-TIMEZONE:Europe/Berlin
BEGIN:VEVENT
UID:508@ginco-ev.com
DTSTART;TZID=Europe/Berlin;VALUE=DATE:20160709
DTEND;TZID=Europe/Berlin;VALUE=DATE:20160710
DTSTAMP:20160520T112557Z
URL:https://ginco-ev.com/de/events/letnij-prazdnik-s-igrami-i-grilem/
SUMMARY:Sommerfest mit Grill und Spiel
DESCRIPTION:Am 9. Juli sind alle herzlich eingeladen\, am Sommerfest mit Gr
 ill und Spiel teilzunehmen! Ab 12 Uhr bis ca 21 Uhr werden wir zusammen fe
 iern: spielen\, singen\, tanzen\, basteln und unbedingt grillen! Genauere 
 Adresse per Mail.
ATTACH;FMTTYPE=image/jpeg:https://ginco-ev.com/wp-content/uploads/2014/02/
 grill2013.jpg
CATEGORIES:Nachrichten
END:VEVENT
BEGIN:VTIMEZONE
TZID:Europe/Berlin
X-LIC-LOCATION:Europe/Berlin
BEGIN:DAYLIGHT
DTSTART:20160327T030000
TZOFFSETFROM:+0100
TZOFFSETTO:+0200
TZNAME:CEST
END:DAYLIGHT
END:VTIMEZONE
END:VCALENDAR