BEGIN:VCALENDAR
VERSION:2.0
PRODID:-//wp-events-plugin.com//7.2.3.1//EN
TZID:Europe/Berlin
X-WR-TIMEZONE:Europe/Berlin
BEGIN:VEVENT
UID:489@ginco-ev.com
DTSTART;TZID=Europe/Berlin:20151222T000000
DTEND;TZID=Europe/Berlin:20151222T000000
DTSTAMP:20151123T122110Z
URL:http://ginco-ev.com/ru/events/zavershenie-goda-prazdniki/
SUMMARY:Зимние каникулы
DESCRIPTION:Дорогие дети\, дорогие родители\, д
 орогие гости! В декабре мы отдыхаем с 22 д
 екабря 2015 по 10 января 2016.
CATEGORIES:Новости
END:VEVENT
BEGIN:VTIMEZONE
TZID:Europe/Berlin
X-LIC-LOCATION:Europe/Berlin
BEGIN:STANDARD
DTSTART:20151025T020000
TZOFFSETFROM:+0200
TZOFFSETTO:+0100
TZNAME:CET
END:STANDARD
END:VTIMEZONE
END:VCALENDAR