BEGIN:VCALENDAR
VERSION:2.0
PRODID:-//wp-events-plugin.com//7.2.3.1//EN
TZID:Europe/Berlin
X-WR-TIMEZONE:Europe/Berlin
BEGIN:VEVENT
UID:505@ginco-ev.com
DTSTART;TZID=Europe/Berlin;VALUE=DATE:20160604
DTEND;TZID=Europe/Berlin;VALUE=DATE:20160605
DTSTAMP:20160527T072712Z
URL:http://ginco-ev.com/ru/events/mezhdunarodnyj-prazdnik/
SUMMARY:Международный праздник
DESCRIPTION:4 июня в Дармштадте на Луизенплатц 
 Министерством по работе с иностранными 
 гражданами проводится международный пр
 аздник. ГинКо обогатит концертную прогр
 амму на этом празднике своим выступлени
 ем в 14.15 час. Мы рады всем болельщикам и з
 рителям и надеемся на их поддержку!
CATEGORIES:Новости
END:VEVENT
BEGIN:VTIMEZONE
TZID:Europe/Berlin
X-LIC-LOCATION:Europe/Berlin
BEGIN:DAYLIGHT
DTSTART:20160327T030000
TZOFFSETFROM:+0100
TZOFFSETTO:+0200
TZNAME:CEST
END:DAYLIGHT
END:VTIMEZONE
END:VCALENDAR