BEGIN:VCALENDAR
VERSION:2.0
PRODID:-//wp-events-plugin.com//7.2.3.1//EN
TZID:Europe/Berlin
X-WR-TIMEZONE:Europe/Berlin
BEGIN:VEVENT
UID:492@ginco-ev.com
DTSTART;TZID=Europe/Berlin;VALUE=DATE:20160210
DTEND;TZID=Europe/Berlin;VALUE=DATE:20160211
DTSTAMP:20160124T213944Z
URL:http://ginco-ev.com/ru/events/godovoe-sobranie/
SUMMARY:Годовое собрание
DESCRIPTION:10 февраля 2016 г. в 17.30 час. состоится 
 годовое собрание членов GinCo e.V. План собр
 ания: отчёт работы за 2015 год\, план работы
  на 2016 год\, разное. Мы будем рады Вашему у
 частию!
CATEGORIES:Новости
END:VEVENT
BEGIN:VTIMEZONE
TZID:Europe/Berlin
X-LIC-LOCATION:Europe/Berlin
BEGIN:STANDARD
DTSTART:20151025T020000
TZOFFSETFROM:+0200
TZOFFSETTO:+0100
TZNAME:CET
END:STANDARD
END:VTIMEZONE
END:VCALENDAR