BEGIN:VCALENDAR
VERSION:2.0
PRODID:-//wp-events-plugin.com//7.2.3.1//EN
TZID:Europe/Berlin
X-WR-TIMEZONE:Europe/Berlin
BEGIN:VEVENT
UID:487@ginco-ev.com
DTSTART;TZID=Europe/Berlin;VALUE=DATE:20151122
DTEND;TZID=Europe/Berlin;VALUE=DATE:20151123
DTSTAMP:20151103T094446Z
URL:http://ginco-ev.com/ru/events/ekskursiya-dlya-roditelej-s-detmi-ot-6-l
 et/
SUMMARY:Экскурсия для родителей с детьми от 6
  лет
DESCRIPTION:22 ноября приглашаем интересующихс
 я искусством родителей с детьми от 6 лет  
 (или без) посетить выставку "Диалог произ
 ведений" в художественном музее г. Франк
 фурта-на-Майне. Для оптимальной организа
 ции этой поездки\, просим желающих запис
 ываться до 13 ноября через интернет. Подр
 обное описание поездки все участники по
 лучат своевременно.
CATEGORIES:Новости
END:VEVENT
BEGIN:VTIMEZONE
TZID:Europe/Berlin
X-LIC-LOCATION:Europe/Berlin
BEGIN:STANDARD
DTSTART:20151025T020000
TZOFFSETFROM:+0200
TZOFFSETTO:+0100
TZNAME:CET
END:STANDARD
END:VTIMEZONE
END:VCALENDAR