BEGIN:VCALENDAR
VERSION:2.0
PRODID:-//wp-events-plugin.com//7.2.3.1//EN
TZID:Europe/Berlin
X-WR-TIMEZONE:Europe/Berlin
BEGIN:VEVENT
UID:495@ginco-ev.com
DTSTART;TZID=Europe/Berlin:20160226T000000
DTEND;TZID=Europe/Berlin:20160612T000000
DTSTAMP:20160207T153718Z
URL:http://ginco-ev.com/de/events/vystavka-zhana-miro/
SUMMARY:Joan Miro Ausstellung
DESCRIPTION:Die Schirnhalle Frankfurt stellt in der Zeit von 26.02. bis 12.
 06.2016 eine sehr spannende Sammlung von Miro Wandbildern aus. Am 28. Febr
 uar findet ein Familienprogramm statt. Näheres bitte hier.
CATEGORIES:Nachrichten
END:VEVENT
BEGIN:VTIMEZONE
TZID:Europe/Berlin
X-LIC-LOCATION:Europe/Berlin
BEGIN:STANDARD
DTSTART:20151025T020000
TZOFFSETFROM:+0200
TZOFFSETTO:+0100
TZNAME:CET
END:STANDARD
BEGIN:DAYLIGHT
DTSTART:20160327T030000
TZOFFSETFROM:+0100
TZOFFSETTO:+0200
TZNAME:CEST
END:DAYLIGHT
END:VTIMEZONE
END:VCALENDAR