BEGIN:VCALENDAR
VERSION:2.0
PRODID:-//wp-events-plugin.com//7.2.3.1//EN
TZID:Europe/Berlin
X-WR-TIMEZONE:Europe/Berlin
BEGIN:VEVENT
UID:566@ginco-ev.com
DTSTART;TZID=Europe/Berlin;VALUE=DATE:20190623
DTEND;TZID=Europe/Berlin;VALUE=DATE:20190624
DTSTAMP:20190528T115307Z
URL:http://ginco-ev.com/de/events/otdyhaem/
SUMMARY:Chillen!!!
DESCRIPTION:Hurra! Wir treffen uns im Freien\, treiben Sport\, suchen nach 
 Schätzen\, lösen Aufgaben\, spielen\, tanzen\, singen und grillen und ha
 ben Spaß natürlich!\nAm 23. Juni\, den Sonntag\, ab 12 Uhr. Details komm
 en per E-Mail Anfang Juni. Bis Bald!
END:VEVENT
BEGIN:VTIMEZONE
TZID:Europe/Berlin
X-LIC-LOCATION:Europe/Berlin
BEGIN:DAYLIGHT
DTSTART:20190331T030000
TZOFFSETFROM:+0100
TZOFFSETTO:+0200
TZNAME:CEST
END:DAYLIGHT
END:VTIMEZONE
END:VCALENDAR