BEGIN:VCALENDAR
VERSION:2.0
PRODID:-//wp-events-plugin.com//7.2.3.1//EN
TZID:Europe/Berlin
X-WR-TIMEZONE:Europe/Berlin
BEGIN:VEVENT
UID:496@ginco-ev.com
DTSTART;TZID=Europe/Berlin;VALUE=DATE:20160313
DTEND;TZID=Europe/Berlin;VALUE=DATE:20160314
DTSTAMP:20160210T213153Z
URL:http://ginco-ev.com/de/events/mezhdunarodnyj-zhenskij-den-3/
SUMMARY:Weltfrauentag
DESCRIPTION:Am 13. März feiern wir zum ersten Mal der Weltfrauentag ganz g
 roß und mit allen Kindern von GinCo e.V.!
ATTACH;FMTTYPE=image/jpeg:http://ginco-ev.com/wp-content/uploads/2014/02/t
 ulpen.jpg
CATEGORIES:Nachrichten
END:VEVENT
BEGIN:VTIMEZONE
TZID:Europe/Berlin
X-LIC-LOCATION:Europe/Berlin
BEGIN:STANDARD
DTSTART:20151025T020000
TZOFFSETFROM:+0200
TZOFFSETTO:+0100
TZNAME:CET
END:STANDARD
END:VTIMEZONE
END:VCALENDAR